Workbook

Sheet 計畫經費
A1: 經費預算表 | G1: 單位：千元
A2: 科目別 | B2: 第1年度 | E2: 第2年度
B3: 補助款 | C3: 自籌款 | D3: 合計 | E3: 補助款 | F3: 自籌款 | G3: 合計
A4: 1.計畫人員之人事費
A5: (1)計畫人員(系統開發、規劃建置、維運等人員) | B5: =歲出預算分配表!B5 -> 0 | C5: =歲出預算分配表!C5 -> 0 | D5: =歲出預算分配表!D5 -> 0 | E5: =歲出預算分配表!E5 -> 0 | F5: =歲出預算分配表!F5 -> 0 | G5: =歲出預算分配表!G5 -> 0
A6: (2)顧問、專家費 | B6: =歲出預算分配表!B6 -> 0 | C6: =歲出預算分配表!C6 -> 0 | D6: =歲出預算分配表!D6 -> 0 | E6: =歲出預算分配表!E6 -> 0 | F6: =歲出預算分配表!F6 -> 0 | G6: =歲出預算分配表!G6 -> 0
A7: (3)短期工作人員薪資 | B7: =歲出預算分配表!B7 -> 0 | C7: =歲出預算分配表!C7 -> 0 | D7: =歲出預算分配表!D7 -> 0 | E7: =歲出預算分配表!E7 -> 0 | F7: =歲出預算分配表!F7 -> 0 | G7: =歲出預算分配表!G7 -> 0
A8: 小 計 | B8: =歲出預算分配表!B8 -> 0 | C8: =歲出預算分配表!C8 -> 0 | D8: =歲出預算分配表!D8 -> 0 | E8: =歲出預算分配表!E8 -> 0 | F8: =歲出預算分配表!F8 -> 0 | G8: =歲出預算分配表!G8 -> 0
A9: 2.消耗性器材及原材料費 | B9: =歲出預算分配表!B9 -> 0 | C9: =歲出預算分配表!C9 -> 0 | D9: =歲出預算分配表!D9 -> 0 | E9: =歲出預算分配表!E9 -> 0 | F9: =歲出預算分配表!F9 -> 0 | G9: =歲出預算分配表!G9 -> 0
A10: 3.創新或研究發展設備使用費
A11: (1)已有設備 | B11: =歲出預算分配表!B11 -> 0 | C11: =歲出預算分配表!C11 -> 0 | D11: =歲出預算分配表!D11 -> 0 | E11: =歲出預算分配表!E11 -> 0 | F11: =歲出預算分配表!F11 -> 0 | G11: =歲出預算分配表!G11 -> 0
A12: (2)新購設備 | B12: =歲出預算分配表!B12 -> 0 | C12: =歲出預算分配表!C12 -> 0 | D12: =歲出預算分配表!D12 -> 0 | E12: =歲出預算分配表!E12 -> 0 | F12: =歲出預算分配表!F12 -> 0 | G12: =歲出預算分配表!G12 -> 0
A13: (3)頻寬費 | B13: =歲出預算分配表!B13 -> 0 | C13: =歲出預算分配表!C13 -> 0 | D13: =歲出預算分配表!D13 -> 0 | E13: =歲出預算分配表!E13 -> 0 | F13: =歲出預算分配表!F13 -> 0 | G13: =歲出預算分配表!G13 -> 0
A14: (4)雲端設備租賃費 | B14: =歲出預算分配表!B14 -> 0 | C14: =歲出預算分配表!C14 -> 0 | D14: =歲出預算分配表!D14 -> 0 | E14: =歲出預算分配表!E14 -> 0 | F14: =歲出預算分配表!F14 -> 0 | G14: =歲出預算分配表!G14 -> 0
A15: (5)載具租賃費 | B15: =歲出預算分配表!B15 -> 0 | C15: =歲出預算分配表!C15 -> 0 | D15: =歲出預算分配表!D15 -> 0 | E15: =歲出預算分配表!E15 -> 0 | F15: =歲出預算分配表!F15 -> 0 | G15: =歲出預算分配表!G15 -> 0
A16: 小 計 | B16: =歲出預算分配表!B16 -> 0 | C16: =歲出預算分配表!C16 -> 0 | D16: =歲出預算分配表!D16 -> 0 | E16: =歲出預算分配表!E16 -> 0 | F16: =歲出預算分配表!F16 -> 0 | G16: =歲出預算分配表!G16 -> 0
A17: 4.創新或研究發展設備維護費
A18: (1)已有設備 | B18: =歲出預算分配表!B18 -> 0 | C18: =歲出預算分配表!C18 -> 0 | D18: =歲出預算分配表!D18 -> 0 | E18: =歲出預算分配表!E18 -> 0 | F18: =歲出預算分配表!F18 -> 0 | G18: =歲出預算分配表!G18 -> 0
A19: (2)新購設備 | B19: =歲出預算分配表!B19 -> 0 | C19: =歲出預算分配表!C19 -> 0 | D19: =歲出預算分配表!D19 -> 0 | E19: =歲出預算分配表!E19 -> 0 | F19: =歲出預算分配表!F19 -> 0 | G19: =歲出預算分配表!G19 -> 0
A20: 小 計 | B20: =歲出預算分配表!B20 -> 0 | C20: =歲出預算分配表!C20 -> 0 | D20: =歲出預算分配表!D20 -> 0 | E20: =歲出預算分配表!E20 -> 0 | F20: =歲出預算分配表!F20 -> 0 | G20: =歲出預算分配表!G20 -> 0
A21: 5.無形資產之引進、委託研究或驗證費
A22: (1)無形資產之引進費 | B22: =歲出預算分配表!B22 -> 0 | C22: =歲出預算分配表!C22 -> 0 | D22: =歲出預算分配表!D22 -> 0 | E22: =歲出預算分配表!E22 -> 0 | F22: =歲出預算分配表!F22 -> 0 | G22: =歲出預算分配表!G22 -> 0
A23: (2)委託研究 | B23: =歲出預算分配表!B23 -> 0 | C23: =歲出預算分配表!C23 -> 0 | D23: =歲出預算分配表!D23 -> 0 | E23: =歲出預算分配表!E23 -> 0 | F23: =歲出預算分配表!F23 -> 0 | G23: =歲出預算分配表!G23 -> 0
A24: (3)委託勞務 | B24: =歲出預算分配表!B24 -> 0 | C24: =歲出預算分配表!C24 -> 0 | D24: =歲出預算分配表!D24 -> 0 | E24: =歲出預算分配表!E24 -> 0 | F24: =歲出預算分配表!F24 -> 0 | G24: =歲出預算分配表!G24 -> 0
A25: (4)驗證費 | B25: =歲出預算分配表!B25 -> 0 | C25: =歲出預算分配表!C25 -> 0 | D25: =歲出預算分配表!D25 -> 0 | E25: =歲出預算分配表!E25 -> 0 | F25: =歲出預算分配表!F25 -> 0 | G25: =歲出預算分配表!G25 -> 0
A26: 小 計 | B26: =歲出預算分配表!B26 -> 0 | C26: =歲出預算分配表!C26 -> 0 | D26: =歲出預算分配表!D26 -> 0 | E26: =歲出預算分配表!E26 -> 0 | F26: =歲出預算分配表!F26 -> 0 | G26: =歲出預算分配表!G26 -> 0
A27: 6.差旅費 | B27: =歲出預算分配表!B27 -> 0 | C27: =歲出預算分配表!C27 -> 0 | D27: =歲出預算分配表!D27 -> 0 | E27: =歲出預算分配表!E27 -> 0 | F27: =歲出預算分配表!F27 -> 0 | G27: =歲出預算分配表!G27 -> 0
A28: 開發總經費 | B28: =歲出預算分配表!B28 -> 0 | C28: =歲出預算分配表!C28 -> 0 | D28: =歲出預算分配表!D28 -> 0 | E28: =歲出預算分配表!E28 -> 0 | F28: =歲出預算分配表!F28 -> 0 | G28: =歲出預算分配表!G28 -> 0
A29: 百分比 | B29: =B28/$D28 -> #DIV/0! | C29: =C28/$D28 -> #DIV/0! | D29: =D28/$D28 -> #DIV/0! | E29: =E28/$G28 -> #DIV/0! | F29: =F28/$G28 -> #DIV/0! | G29: =G28/$G28 -> #DIV/0!

Sheet 2.1計畫人員之人事費
A1: 二、各科目預算編列表(請分別填列各申請公司資料)
A2: 2.1計畫人員之人事費 | J2: 單位：千元
A3: 職務別 | C3: 平均月薪(A) | E3: 人月數(B) | G3: 人事費概算(A×B) | J3: 備註
A4: 1.計畫人員 | C4: 第1年度 | D4: 第2年度 | E4: 第1年度 | F4: 第2年度 | G4: 第1年度 | H4: 第2年度 | I4: 合計
A5: 系統開發人員
A6: .... | G6: =E6*C6 -> 0 | H6: =F6*D6 -> 0 | I6: =H6+G6 -> 0
A7: .... | G7: =E7*C7 -> 0 | H7: =F7*D7 -> 0 | I7: =H7+G7 -> 0
A8: 規劃建置人員
A9: … | G9: =E9*C9 -> 0 | H9: =F9*D9 -> 0 | I9: =H9+G9 -> 0
A10: … | G10: =E10*C10 -> 0 | H10: =F10*D10 -> 0 | I10: =H10+G10 -> 0
A11: 維運人員
A12: … | G12: =E12*C12 -> 0 | H12: =F12*D12 -> 0 | I12: =H12+G12 -> 0
A13: … | G13: =E13*C13 -> 0 | H13: =F13*D13 -> 0 | I13: =H13+G13 -> 0
A14: 小計 | E14: =SUM(E6:E13) -> 0 | F14: =SUM(F6:F13) -> 0 | G14: =SUM(G6:G13) -> 0 | H14: =SUM(H6:H13) -> 0 | I14: =SUM(I6:I13) -> 0
A15: 2.顧問、專家費 | C15: 第1年度 | D15: 第2年度 | E15: 第1年度 | F15: 第2年度 | G15: 第1年度 | H15: 第2年度 | I15: 合計 | J15: 工作內容
A16: … | G16: =E16*C16 -> 0 | H16: =F16*D16 -> 0 | I16: =H16+G16 -> 0
A17: … | G17: =E17*C17 -> 0 | H17: =F17*D17 -> 0 | I17: =H17+G17 -> 0
A18: 小計 | E18: =SUM(E16:E17) -> 0 | F18: =SUM(F16:F17) -> 0 | G18: =SUM(G16:G17) -> 0 | H18: =SUM(H16:H17) -> 0 | I18: =SUM(I16:I17) -> 0
A19: 3.短期工作人員薪資 | C19: 時/日薪(A) | E19: 時/日數(B) | G19: 人事費概算(A×B)
C20: 第1年度 | D20: 第2年度 | E20: 第1年度 | F20: 第2年度 | G20: 第1年度 | H20: 第2年度 | I20: 合計
A21: … | G21: =E21*C21 -> 0 | H21: =F21*D21 -> 0 | I21: =H21+G21 -> 0
A22: … | G22: =E22*C22 -> 0 | H22: =F22*D22 -> 0 | I22: =H22+G22 -> 0
A23: 小計 | E23: =SUM(E21:E22) -> 0 | F23: =SUM(F21:F22) -> 0 | G23: =SUM(G21:G22) -> 0 | H23: =SUM(H21:H22) -> 0 | I23: =H23+G23 -> 0
A24: 合計 | G24: =G23+G18+G14 -> 0 | H24: =H23+H18+H14 -> 0 | I24: =I23+I18+I14 -> 0

Sheet 2.2消耗性器材及原材料費
A1: 2.2消耗性器材及原材料費 | J1: 單位：千元
A2: 項目 | B2: 單位 | C2: 預估需求數量 | F2: 預估單價 | G2: 全程費用概算 | J2: 用途說明
C3: 第1年度 | D3: 第2年度 | E3: 合計 | G3: 第1年度 | H3: 第2年度 | I3: 合計
E4: =D4+C4 -> 0 | G4: =F4*C4 -> 0 | H4: =G4*D4 -> 0 | I4: =H4+G4 -> 0
E5: =D5+C5 -> 0 | G5: =F5*C5 -> 0 | H5: =G5*D5 -> 0 | I5: =H5+G5 -> 0
E6: =D6+C6 -> 0 | G6: =F6*C6 -> 0 | H6: =G6*D6 -> 0 | I6: =H6+G6 -> 0
E7: =D7+C7 -> 0 | G7: =F7*C7 -> 0 | H7: =G7*D7 -> 0 | I7: =H7+G7 -> 0
E8: =D8+C8 -> 0 | G8: =F8*C8 -> 0 | H8: =G8*D8 -> 0 | I8: =H8+G8 -> 0
E9: =D9+C9 -> 0 | G9: =F9*C9 -> 0 | H9: =G9*D9 -> 0 | I9: =H9+G9 -> 0
E10: =D10+C10 -> 0 | G10: =F10*C10 -> 0 | H10: =G10*D10 -> 0 | I10: =H10+G10 -> 0
A11: 合計 | G11: =SUM(G4:G10) -> 0 | H11: =SUM(H4:H10) -> 0 | I11: =SUM(I4:I10) -> 0

Sheet 2.3創新或研究發展設備使用費用
A1: 2.3創新或研究發展設備使用費用 | L1: 2
A2: 設備名稱 (加註財產編號) | B2: 計畫開始日時之帳面價值 A | C2: 套數 B | D2: 計算基礎 A×B/60 | F2: 投入月數 | I2: 金額 | L2: 用途說明
F3: 第1年度 | G3: 第2年度 | H3: 合計 | I3: 第1年度 | J3: 第2年度 | K3: 合計
A4: 已有設備
D5: =B5*C5/60 -> 0 | H5: =SUM(F5:G5) -> 0 | I5: =$D5*F5 -> 0 | J5: =$D5*G5 -> 0 | K5: =SUM(I5:J5) -> 0
D6: =B6*C6/60 -> 0 | H6: =SUM(F6:G6) -> 0 | I6: =$D6*F6 -> 0 | J6: =$D6*G6 -> 0 | K6: =SUM(I6:J6) -> 0
A7: 小計 | H7: =SUM(H5:H6) -> 0 | I7: =SUM(I5:I6) -> 0 | J7: =SUM(J5:J6) -> 0 | K7: =SUM(K5:K6) -> 0
A8: 計畫新購設備名稱 | B8: 單套購置金額 A | C8: 套數 B | D8: 計算基礎 A×B/60 | F8: 投入月數 | I8: 金額
F9: 第1年度 | G9: 第2年度 | H9: 合計 | I9: 第1年度 | J9: 第2年度 | K9: 合計
A10: 新購設備
D11: =B11*C11/60 -> 0 | H11: =SUM(F11:G11) -> 0 | I11: =$D11*F11 -> 0 | J11: =$D11*G11 -> 0 | K11: =SUM(I11:J11) -> 0
D12: =B12*C12/60 -> 0 | H12: =SUM(F12:G12) -> 0 | I12: =$D12*F12 -> 0 | J12: =$D12*G12 -> 0 | K12: =SUM(I12:J12) -> 0
A13: 小計 | H13: =SUM(H11:H12) -> 0 | I13: =SUM(I11:I12) -> 0 | J13: =SUM(J11:J12) -> 0 | K13: =SUM(K11:K12) -> 0
A14: 頻寬費 (電信商名稱) | B14: 每月流量費 | E14: 分攤方式說明 (分子/分母) | F14: 投入月數 | I14: 金額
B15: 計費單位(MB/GB) | C15: 單位數 | D15: 單價 | F15: 第1年度 | G15: 第2年度 | H15: 合 計 | I15: 第1年度 | J15: 第2年度 | K15: 合計
H16: =SUM(F16:G16) -> 0 | I16: =$B16*$C16*$D16*F16 -> 0 | J16: =$B16*$C16*$D16*G16 -> 0 | K16: =SUM(I16:J16) -> 0
H17: =SUM(F17:G17) -> 0 | I17: =$B17*$C17*$D17*F17 -> 0 | J17: =$B17*$C17*$D17*G17 -> 0 | K17: =SUM(I17:J17) -> 0
A18: 小計 | H18: =SUM(H16:H17) -> 0 | I18: =SUM(I16:I17) -> 0 | J18: =SUM(J16:J17) -> 0 | K18: =SUM(K16:K17) -> 0
A19: 雲端設備租賃費 | B19: 計費方式說明 | E19: 分攤方式說明 (分子/分母) | F19: 投入月數 | I19: 金額
B20: 計費單位 | C20: 單位數 | D20: 單價 | F20: 第1年度 | G20: 第2年度 | H20: 合 計 | I20: 第1年度 | J20: 第2年度 | K20: 合計
H21: =SUM(F21:G21) -> 0 | I21: =$B21*$C21*$D21*F21 -> 0 | J21: =$B21*$C21*$D21*G21 -> 0 | K21: =SUM(I21:J21) -> 0
H22: =SUM(F22:G22) -> 0 | I22: =$B22*$C22*$D22*F22 -> 0 | J22: =$B22*$C22*$D22*G22 -> 0 | K22: =SUM(I22:J22) -> 0
A23: 小計 | H23: =SUM(H21:H22) -> 0 | I23: =SUM(I21:I22) -> 0 | J23: =SUM(J21:J22) -> 0 | K23: =SUM(K21:K22) -> 0
A24: 載具租賃費 | B24: 租用套數 | C24: 每月租金 | D24: 分攤方式說明 (分子/分母) | F24: 投入月數 | I24: 金額
F25: 第1年度 | G25: 第2年度 | H25: 合計 | I25: 第1年度 | J25: 第2年度 | K25: 合計
H26: =SUM(F26:G26) -> 0 | I26: =$B26*$C26*F26 -> 0 | J26: =$B26*$C26*G26 -> 0 | K26: =SUM(I26:J26) -> 0
H27: =SUM(F27:G27) -> 0 | I27: =$B27*$C27*F27 -> 0 | J27: =$B27*$C27*G27 -> 0 | K27: =SUM(I27:J27) -> 0
A28: 小計 | H28: =SUM(H26:H27) -> 0 | I28: =SUM(I26:I27) -> 0 | J28: =SUM(J26:J27) -> 0 | K28: =SUM(K26:K27) -> 0
A29: 合 計 | B29: ＊＊＊＊ | C29: ＊＊ | D29: ＊＊＊＊ | E29: ＊＊＊＊ | F29: ＊＊＊＊ | G29: ＊＊＊＊ | H29: ＊＊＊＊
A30: 合計 | H30: =H13+H7+H28+H23+H18 -> 0 | I30: =I13+I7+I28+I23+I18 -> 0 | J30: =J13+J7+J28+J23+J18 -> 0 | K30: =K7+K13+K28+K23 -> 0
A31: 上表中屬資訊設備、通訊設備之軟體、硬體之使用費需求總計
A32: 設備名稱 | B32: 使用費經費需求
B33: 第1年度 | C33: 第2年度 | D33: 合計
D34: =B34+C34 -> 0
D35: =B35+C35 -> 0
A36: 合計 | B36: =B35+B34 -> 0 | C36: =C35+C34 -> 0 | D36: =D35+D34 -> 0
A37: 註：新購設備之單套購置金額請列預計採購成本。

Sheet 2.4創新或研究發展設備維護費用
A1: 2.4創新或研究發展設備維護費用 | F1: 單位：千元
A2: 設備名稱 | B2: 單套購置成本 | C2: 套數 | D2: 金額
D3: 第1年度 | E3: 第2年度 | F3: 合 計
A4: 已有設備
F5: =SUM(D5:E5) -> 0
F6: =SUM(D6:E6) -> 0
F7: =SUM(D7:E7) -> 0
A8: 小計 | F8: =SUM(D8:E8) -> 0
A9: 新增設備
F10: =SUM(D10:E10) -> 0
F11: =SUM(D11:E11) -> 0
F12: =SUM(D12:E12) -> 0
A13: 小計 | B13: ＊＊＊＊ | C13: ＊＊ | D13: =SUM(D10:D12) -> 0 | E13: =SUM(E10:E12) -> 0 | F13: =SUM(D13:E13) -> 0
A14: 公司合計 | B14: ＊＊＊＊ | C14: ＊＊ | D14: =D8+D13 -> 0 | E14: =E8+E13 -> 0 | F14: =F8+F13 -> 0

Sheet 2.5無形資產之引進、委託研究、委託勞務或驗證費
A1: 2.5無形資產之引進、委託研究、委託勞務或驗證費 | H1: 單位：千元
A2: 類別 | B2: 項目名稱 | D2: 機構名稱 | F2: 金 額
F3: 第1年度 | G3: 第2年度 | H3: 合 計
A4: 無形資產之引進費 | H4: =SUM(F4:G4) -> 0
B5: 小 計 | F5: =SUM(F4:F4) -> 0 | G5: =SUM(G4:G4) -> 0 | H5: =SUM(F5:G5) -> 0
A6: 委託研究 | H6: =SUM(F6:G6) -> 0
H7: =SUM(F7:G7) -> 0
B8: 小 計 | F8: =SUM(F6:F7) -> 0 | G8: =SUM(G6:G7) -> 0 | H8: =SUM(F8:G8) -> 0
A9: 委託勞務 | H9: =SUM(F9:G9) -> 0
B11: 小 計 | F11: =SUM(F9:F10) -> 0 | G11: =SUM(G9:G10) -> 0 | H11: =SUM(F11:G11) -> 0
A12: 驗證 | B12: 驗證項目 | C12: 單位 | D12: 單價 | E12: 委託機構 | F12: 第1年度 | G12: 第2年度 | H12: 合 計
H14: =SUM(F14:G14) -> 0
B15: 小 計 | F15: =SUM(F13:F14) -> 0 | G15: =SUM(G13:G14) -> 0 | H15: =SUM(F15:G15) -> 0
A16: 公司合計 | F16: =F5+F8+F11+F15 -> 0 | G16: =G5+G8+G11+G15 -> 0 | H16: =H5+H8+H11+H15 -> 0

Sheet 2.6國內差旅費  
A1: 2.6 國內差旅費 | I1: 單位：千元
A2: 出差事由 | B2: 地區 | C2: 天數 | D2: 人次 | G2: 金額
D3: 第1年度 | E3: 第2年度 | F3: 合計 | G3: 第1年度 | H3: 第2年度 | I3: 合計
F4: =SUM(D4:E4) -> 0 | I4: =SUM(G4:H4) -> 0
F5: =SUM(D5:E5) -> 0 | I5: =SUM(G5:H5) -> 0
F6: =SUM(D6:E6) -> 0 | I6: =SUM(G6:H6) -> 0
A7: 合計 | D7: =SUM(D4:D6) -> 0 | E7: =SUM(E4:E6) -> 0 | F7: =SUM(D7:E7) -> 0 | G7: =SUM(G4:G6) -> 0 | H7: =SUM(H4:H6) -> 0 | I7: =SUM(G7:H7) -> 0

Sheet 歲出預算分配表
A1: 歲出預算分配表
A2: 科目別 | B2: 第1年度 | E2: 第2年度 | H2: 總計 | K2: 補助比例
B3: 補助款 | C3: 自籌款 | D3: 合計 | E3: 補助款 | F3: 自籌款 | G3: 合計 | H3: 補助款 | I3: 自籌款 | J3: 合計
A4: 1.計畫人員之人事費
A5: (1)計畫人員(系統開發、規劃建置、維運等人員) | B5: =D5*$K5 -> 0 | C5: =D5-B5 -> 0 | D5: ='2.1計畫人員之人事費'!G14 -> 0 | E5: =G5*$K5 -> 0 | F5: =G5-E5 -> 0 | G5: ='2.1計畫人員之人事費'!H14 -> 0 | H5: =E5+B5 -> 0 | I5: =F5+C5 -> 0 | J5: =G5+D5 -> 0
A6: (2)顧問、專家費 | B6: =D6*$K6 -> 0 | C6: =D6-B6 -> 0 | D6: ='2.1計畫人員之人事費'!G18 -> 0 | E6: =G6*$K6 -> 0 | F6: =G6-E6 -> 0 | G6: ='2.1計畫人員之人事費'!H18 -> 0 | H6: =E6+B6 -> 0 | I6: =F6+C6 -> 0 | J6: =G6+D6 -> 0
A7: (3)短期工作人員薪資 | B7: =D7*$K7 -> 0 | C7: =D7-B7 -> 0 | D7: ='2.1計畫人員之人事費'!G23 -> 0 | E7: =G7*$K7 -> 0 | F7: =G7-E7 -> 0 | G7: ='2.1計畫人員之人事費'!H23 -> 0 | H7: =E7+B7 -> 0 | I7: =F7+C7 -> 0 | J7: =G7+D7 -> 0
A8: 小 計 | B8: =SUM(B5:B7) -> 0 | C8: =SUM(C5:C7) -> 0 | D8: =SUM(D5:D7) -> 0 | E8: =SUM(E5:E7) -> 0 | F8: =SUM(F5:F7) -> 0 | G8: =SUM(G5:G7) -> 0 | H8: =SUM(H5:H7) -> 0 | I8: =SUM(I5:I7) -> 0 | J8: =SUM(J5:J7) -> 0
A9: 2.消耗性器材及原材料費 | B9: =D9*$K9 -> 0 | C9: =D9-B9 -> 0 | D9: ='2.2消耗性器材及原材料費'!G11 -> 0 | E9: =G9*$K9 -> 0 | F9: =G9-E9 -> 0 | G9: ='2.2消耗性器材及原材料費'!H11 -> 0 | H9: =E9+B9 -> 0 | I9: =F9+C9 -> 0 | J9: =G9+D9 -> 0
A10: 3.創新或研究發展設備使用費
A11: (1)已有設備 | B11: =D11*$K11 -> 0 | C11: =D11-B11 -> 0 | D11: ='2.3創新或研究發展設備使用費用'!I7 -> 0 | E11: =G11*$K11 -> 0 | F11: =G11-E11 -> 0 | G11: ='2.3創新或研究發展設備使用費用'!J7 -> 0 | H11: =E11+B11 -> 0 | I11: =F11+C11 -> 0 | J11: =G11+D11 -> 0
A12: (2)新購設備 | B12: =D12*$K12 -> 0 | C12: =D12-B12 -> 0 | D12: ='2.3創新或研究發展設備使用費用'!I13 -> 0 | E12: =G12*$K12 -> 0 | F12: =G12-E12 -> 0 | G12: ='2.3創新或研究發展設備使用費用'!J13 -> 0 | H12: =E12+B12 -> 0 | I12: =F12+C12 -> 0 | J12: =G12+D12 -> 0
A13: (3)頻寬費 | B13: =D13*$K13 -> 0 | C13: =D13-B13 -> 0 | D13: ='2.3創新或研究發展設備使用費用'!I18 -> 0 | E13: =G13*$K13 -> 0 | F13: =G13-E13 -> 0 | G13: ='2.3創新或研究發展設備使用費用'!J18 -> 0 | H13: =E13+B13 -> 0 | I13: =F13+C13 -> 0 | J13: =G13+D13 -> 0
A14: (4)雲端設備租賃費 | B14: =D14*$K14 -> 0 | C14: =D14-B14 -> 0 | D14: ='2.3創新或研究發展設備使用費用'!I23 -> 0 | E14: =G14*$K14 -> 0 | F14: =G14-E14 -> 0 | G14: ='2.3創新或研究發展設備使用費用'!J23 -> 0 | H14: =E14+B14 -> 0 | I14: =F14+C14 -> 0 | J14: =G14+D14 -> 0
A15: (5)載具租賃費 | B15: =D15*$K15 -> 0 | C15: =D15-B15 -> 0 | D15: ='2.3創新或研究發展設備使用費用'!I28 -> 0 | E15: =G15*$K15 -> 0 | F15: =G15-E15 -> 0 | G15: ='2.3創新或研究發展設備使用費用'!J28 -> 0 | H15: =E15+B15 -> 0 | I15: =F15+C15 -> 0 | J15: =G15+D15 -> 0
A16: 小 計 | B16: =SUM(B11:B15) -> 0 | C16: =SUM(C11:C15) -> 0 | D16: =SUM(D11:D15) -> 0 | E16: =SUM(E11:E15) -> 0 | F16: =SUM(F11:F15) -> 0 | G16: =SUM(G11:G15) -> 0 | H16: =SUM(H11:H15) -> 0 | I16: =SUM(I11:I15) -> 0 | J16: =SUM(J11:J15) -> 0
A17: 4.創新或研究發展設備維護費
A18: (1)已有設備 | B18: =D18*$K18 -> 0 | C18: =D18-B18 -> 0 | D18: ='2.4創新或研究發展設備維護費用'!D8 -> 0 | E18: =G18*$K18 -> 0 | F18: =G18-E18 -> 0 | G18: ='2.4創新或研究發展設備維護費用'!E8 -> 0 | H18: =E18+B18 -> 0 | I18: =F18+C18 -> 0 | J18: =G18+D18 -> 0
A19: (2)新購設備 | B19: =D19*$K19 -> 0 | C19: =D19-B19 -> 0 | D19: ='2.4創新或研究發展設備維護費用'!D13 -> 0 | E19: =G19*$K19 -> 0 | F19: =G19-E19 -> 0 | G19: ='2.4創新或研究發展設備維護費用'!E13 -> 0 | H19: =E19+B19 -> 0 | I19: =F19+C19 -> 0 | J19: =G19+D19 -> 0
A20: 小 計 | B20: =D20*$K20 -> 0 | C20: =D20-B20 -> 0 | D20: =SUM(D18:D19) -> 0 | E20: =SUM(E18:E19) -> 0 | F20: =SUM(F18:F19) -> 0 | G20: =SUM(G18:G19) -> 0 | H20: =SUM(H18:H19) -> 0 | I20: =SUM(I18:I19) -> 0 | J20: =SUM(J18:J19) -> 0
A21: 5.無形資產之引進、委託研究或驗證費
A22: (1)無形資產之引進費 | B22: =D22*$K22 -> 0 | C22: =D22-B22 -> 0 | D22: ='2.5無形資產之引進、委託研究、委託勞務或驗證費'!F5 -> 0 | E22: =G22*$K22 -> 0 | F22: =G22-E22 -> 0 | G22: ='2.5無形資產之引進、委託研究、委託勞務或驗證費'!G5 -> 0 | H22: =E22+B22 -> 0 | I22: =F22+C22 -> 0 | J22: =G22+D22 -> 0
A23: (2)委託研究 | B23: =D23*$K23 -> 0 | C23: =D23-B23 -> 0 | D23: ='2.5無形資產之引進、委託研究、委託勞務或驗證費'!F8 -> 0 | E23: =G23*$K23 -> 0 | F23: =G23-E23 -> 0 | G23: ='2.5無形資產之引進、委託研究、委託勞務或驗證費'!G8 -> 0 | H23: =E23+B23 -> 0 | I23: =F23+C23 -> 0 | J23: =G23+D23 -> 0
A24: (3)委託勞務 | B24: =D24*$K24 -> 0 | C24: =D24-B24 -> 0 | D24: ='2.5無形資產之引進、委託研究、委託勞務或驗證費'!F11 -> 0 | E24: =G24*$K24 -> 0 | F24: =G24-E24 -> 0 | G24: ='2.5無形資產之引進、委託研究、委託勞務或驗證費'!G11 -> 0 | H24: =E24+B24 -> 0 | I24: =F24+C24 -> 0 | J24: =G24+D24 -> 0
A25: (4)驗證費 | B25: =D25*$K25 -> 0 | C25: =D25-B25 -> 0 | D25: ='2.5無形資產之引進、委託研究、委託勞務或驗證費'!F15 -> 0 | E25: =G25*$K25 -> 0 | F25: =G25-E25 -> 0 | G25: ='2.5無形資產之引進、委託研究、委託勞務或驗證費'!G15 -> 0 | H25: =E25+B25 -> 0 | I25: =F25+C25 -> 0 | J25: =G25+D25 -> 0
A26: 小 計 | B26: =SUM(B22:B25) -> 0 | C26: =SUM(C22:C25) -> 0 | D26: =SUM(D22:D25) -> 0 | E26: =SUM(E22:E25) -> 0 | F26: =SUM(F22:F25) -> 0 | G26: =SUM(G22:G25) -> 0 | H26: =SUM(H22:H25) -> 0 | I26: =SUM(I22:I25) -> 0 | J26: =SUM(J22:J25) -> 0
A27: 6.差旅費 | B27: =D27*$K27 -> 0 | C27: =D27-B27 -> 0 | D27: ='2.6國內差旅費 '!G7 -> 0 | E27: =G27*$K27 -> 0 | F27: =G27-E27 -> 0 | G27: ='2.6國內差旅費 '!H7 -> 0 | H27: =E27+B27 -> 0 | I27: =F27+C27 -> 0 | J27: =G27+D27 -> 0
A28: 計畫開發總經費 | B28: =B27+B26+B20+B16+B9+B8 -> 0 | C28: =C27+C26+C20+C16+C9+C8 -> 0 | D28: =D27+D26+D20+D16+D9+D8 -> 0 | E28: =E27+E26+E20+E16+E9+E8 -> 0 | F28: =F27+F26+F20+F16+F9+F8 -> 0 | G28: =G27+G26+G20+G16+G9+G8 -> 0 | H28: =H27+H26+H20+H16+H9+H8 -> 0 | I28: =I27+I26+I20+I16+I9+I8 -> 0 | J28: =J27+J26+J20+J16+J9+J8 -> 0
